BEGIN:VCALENDAR
VERSION:2.0
PRODID:-//England Korfball - ECPv6.15.20//NONSGML v1.0//EN
CALSCALE:GREGORIAN
METHOD:PUBLISH
X-WR-CALNAME:England Korfball
X-ORIGINAL-URL:https://englandkorfball.co.uk
X-WR-CALDESC:Events for England Korfball
REFRESH-INTERVAL;VALUE=DURATION:PT1H
X-Robots-Tag:noindex
X-PUBLISHED-TTL:PT1H
BEGIN:VTIMEZONE
TZID:Europe/London
BEGIN:DAYLIGHT
TZOFFSETFROM:+0000
TZOFFSETTO:+0100
TZNAME:BST
DTSTART:20160327T010000
END:DAYLIGHT
BEGIN:STANDARD
TZOFFSETFROM:+0100
TZOFFSETTO:+0000
TZNAME:GMT
DTSTART:20161030T010000
END:STANDARD
BEGIN:DAYLIGHT
TZOFFSETFROM:+0000
TZOFFSETTO:+0100
TZNAME:BST
DTSTART:20170326T010000
END:DAYLIGHT
BEGIN:STANDARD
TZOFFSETFROM:+0100
TZOFFSETTO:+0000
TZNAME:GMT
DTSTART:20171029T010000
END:STANDARD
BEGIN:DAYLIGHT
TZOFFSETFROM:+0000
TZOFFSETTO:+0100
TZNAME:BST
DTSTART:20180325T010000
END:DAYLIGHT
BEGIN:STANDARD
TZOFFSETFROM:+0100
TZOFFSETTO:+0000
TZNAME:GMT
DTSTART:20181028T010000
END:STANDARD
BEGIN:DAYLIGHT
TZOFFSETFROM:+0000
TZOFFSETTO:+0100
TZNAME:BST
DTSTART:20190331T010000
END:DAYLIGHT
BEGIN:STANDARD
TZOFFSETFROM:+0100
TZOFFSETTO:+0000
TZNAME:GMT
DTSTART:20191027T010000
END:STANDARD
BEGIN:DAYLIGHT
TZOFFSETFROM:+0000
TZOFFSETTO:+0100
TZNAME:BST
DTSTART:20200329T010000
END:DAYLIGHT
BEGIN:STANDARD
TZOFFSETFROM:+0100
TZOFFSETTO:+0000
TZNAME:GMT
DTSTART:20201025T010000
END:STANDARD
BEGIN:DAYLIGHT
TZOFFSETFROM:+0000
TZOFFSETTO:+0100
TZNAME:BST
DTSTART:20210328T010000
END:DAYLIGHT
BEGIN:STANDARD
TZOFFSETFROM:+0100
TZOFFSETTO:+0000
TZNAME:GMT
DTSTART:20211031T010000
END:STANDARD
BEGIN:DAYLIGHT
TZOFFSETFROM:+0000
TZOFFSETTO:+0100
TZNAME:BST
DTSTART:20220327T010000
END:DAYLIGHT
BEGIN:STANDARD
TZOFFSETFROM:+0100
TZOFFSETTO:+0000
TZNAME:GMT
DTSTART:20221030T010000
END:STANDARD
BEGIN:DAYLIGHT
TZOFFSETFROM:+0000
TZOFFSETTO:+0100
TZNAME:BST
DTSTART:20230326T010000
END:DAYLIGHT
BEGIN:STANDARD
TZOFFSETFROM:+0100
TZOFFSETTO:+0000
TZNAME:GMT
DTSTART:20231029T010000
END:STANDARD
END:VTIMEZONE
BEGIN:VEVENT
DTSTART;VALUE=DATE:20220703
DTEND;VALUE=DATE:20220704
DTSTAMP:20260422T202843
CREATED:20220205T181115Z
LAST-MODIFIED:20220205T181300Z
UID:22759-1656806400-1656892799@englandkorfball.co.uk
SUMMARY:National Youth Day 2022
DESCRIPTION:
URL:https://englandkorfball.co.uk/calendars/national-youth-day-2022/
LOCATION:Sparrow’s Den\, Addington Road/Corkscrew Hill\, Bromley\, West Wickham\, BR4 9BB\, United Kingdom
CATEGORIES:Summer Tournaments
END:VEVENT
BEGIN:VEVENT
DTSTART;VALUE=DATE:20200620
DTEND;VALUE=DATE:20200621
DTSTAMP:20260422T202843
CREATED:20200208T152656Z
LAST-MODIFIED:20210218T163515Z
UID:18580-1592611200-1592697599@englandkorfball.co.uk
SUMMARY:National Youth Day 2020 #CANCELLED#
DESCRIPTION:## CANCELLED due to Covid-19 ##\nNational Youth Day is a competition for Clubs and Schools and this year will take place at Sparrow’s Den in Bromley.
URL:https://englandkorfball.co.uk/calendars/national-youth-day-2020/
LOCATION:Sparrow’s Den\, Addington Road/Corkscrew Hill\, Bromley\, West Wickham\, BR4 9BB\, United Kingdom
CATEGORIES:Summer Tournaments
ATTACH;FMTTYPE=image/gif:https://englandkorfball.co.uk/wp-content/uploads/2020/02/NYD2020.gif
ORGANIZER;CN="London Korfball Association":MAILTO:Chair@londonkorfball.com
END:VEVENT
BEGIN:VEVENT
DTSTART;VALUE=DATE:20190720
DTEND;VALUE=DATE:20190721
DTSTAMP:20260422T202843
CREATED:20190707T145123Z
LAST-MODIFIED:20190707T145123Z
UID:16260-1563580800-1563667199@englandkorfball.co.uk
SUMMARY:Kent Summer Tournament 2019
DESCRIPTION:The Kent Korfball Association would like to invite and welcome all club and team entries for a fun and challenging day of korfball. \nJunior age groups: U9 mono\, U11 and U13 \nSenior: 1st teams\, Regional teams\, Recreational teams
URL:https://englandkorfball.co.uk/calendars/kent-summer-tournament-2019/
LOCATION:Larkfield Recreation Ground\, New Hythe Lane\, Larkfield\, KENT\, ME20 6RH\, United Kingdom
CATEGORIES:Summer Tournaments
END:VEVENT
BEGIN:VEVENT
DTSTART;VALUE=DATE:20190714
DTEND;VALUE=DATE:20190715
DTSTAMP:20260422T202843
CREATED:20181105T172017Z
LAST-MODIFIED:20190613T171456Z
UID:12439-1563062400-1563148799@englandkorfball.co.uk
SUMMARY:National Youth Day 2019
DESCRIPTION:National Youth Day is a competition for Clubs and Schools and this year will take place at Club Langley in Beckenham\, Kent. Closing date for entries: Sunday\, 30th June 2019.
URL:https://englandkorfball.co.uk/calendars/national-youth-day-2019/
LOCATION:Club Langley\, 2 Hawksbrook Lane\, Beckenham\, Kent\, BR3 3SR\, United Kingdom
CATEGORIES:Summer Tournaments
ATTACH;FMTTYPE=image/jpeg:https://englandkorfball.co.uk/wp-content/uploads/2018/10/41450120894_5e37febb9a_o.jpg
END:VEVENT
BEGIN:VEVENT
DTSTART;VALUE=DATE:20190706
DTEND;VALUE=DATE:20190708
DTSTAMP:20260422T202843
CREATED:20190504T145644Z
LAST-MODIFIED:20190504T145644Z
UID:15143-1562371200-1562543999@englandkorfball.co.uk
SUMMARY:IKF Beach Korfball World Cup (Europe) 2019
DESCRIPTION:
URL:https://englandkorfball.co.uk/calendars/ikf-beach-korfball-world-cup-europe-2019/
LOCATION:Rue du Stade 42160\, Bonson\, Bonson\, 42160\, France
CATEGORIES:Internationals,Summer Tournaments
ATTACH;FMTTYPE=image/png:https://englandkorfball.co.uk/wp-content/uploads/2019/05/ikf_bkwc_2019_web1.png
END:VEVENT
BEGIN:VEVENT
DTSTART;VALUE=DATE:20180708
DTEND;VALUE=DATE:20180709
DTSTAMP:20260422T202843
CREATED:20170921T115033Z
LAST-MODIFIED:20180531T151822Z
UID:7775-1531008000-1531094399@englandkorfball.co.uk
SUMMARY:National Youth Day 2018
DESCRIPTION:National Youth Day 2018 will be held on Sunday 8th July 2018 at: The Hewett Academy in Norwich. Games will begin at 10am and the competition will close at approximately 5pm. All entries must be received by Sunday 24th June 2018.
URL:https://englandkorfball.co.uk/calendars/national-youth-day-2018/
LOCATION:The Hewitt Academy\,  Cecil Road\, Norwich \, NR1 2PL\, United Kingdom
CATEGORIES:Summer Tournaments
ATTACH;FMTTYPE=image/jpeg:https://englandkorfball.co.uk/wp-content/uploads/2016/05/5933070358_cf7b5f341b_o.jpg
END:VEVENT
BEGIN:VEVENT
DTSTART;VALUE=DATE:20170723
DTEND;VALUE=DATE:20170724
DTSTAMP:20260422T202843
CREATED:20170308T211919Z
LAST-MODIFIED:20170308T211919Z
UID:4906-1500768000-1500854399@englandkorfball.co.uk
SUMMARY:Kent Summer Tournament
DESCRIPTION:
URL:https://englandkorfball.co.uk/calendars/kent-summer-tournament/
LOCATION:Lark field\, New Hythe Lane\, Aylesford\, Kent\, ME20 6PU\, United Kingdom
CATEGORIES:Summer Tournaments
ATTACH;FMTTYPE=image/jpeg:https://englandkorfball.co.uk/wp-content/uploads/2017/03/5995520977_55f5ff6ed4_o.jpg
END:VEVENT
BEGIN:VEVENT
DTSTART;VALUE=DATE:20170722
DTEND;VALUE=DATE:20170723
DTSTAMP:20260422T202843
CREATED:20170308T211728Z
LAST-MODIFIED:20170308T211728Z
UID:4903-1500681600-1500767999@englandkorfball.co.uk
SUMMARY:International Inter-Area Tournament 2017
DESCRIPTION:
URL:https://englandkorfball.co.uk/calendars/international-inter-area-tournament-2017/
LOCATION:Lark field\, New Hythe Lane\, Aylesford\, Kent\, ME20 6PU\, United Kingdom
CATEGORIES:Summer Tournaments
ATTACH;FMTTYPE=image/jpeg:https://englandkorfball.co.uk/wp-content/uploads/2017/03/5995520977_55f5ff6ed4_o.jpg
END:VEVENT
BEGIN:VEVENT
DTSTART;VALUE=DATE:20170714
DTEND;VALUE=DATE:20170717
DTSTAMP:20260422T202843
CREATED:20170308T222658Z
LAST-MODIFIED:20170308T222658Z
UID:4924-1499990400-1500249599@englandkorfball.co.uk
SUMMARY:Leicester City Korfball Tournament 2017
DESCRIPTION:Leicester City Korfball Tournament 2017 – The Big American Birthday One
URL:https://englandkorfball.co.uk/calendars/leicester-city-korfball-tournament-2017/
LOCATION:Aylestone St James RFC\, Covert Lane\, Leicester\, Scraptoft\, LE7 9SP\, United Kingdom
CATEGORIES:Summer Tournaments
ATTACH;FMTTYPE=image/jpeg:https://englandkorfball.co.uk/wp-content/uploads/2017/03/5995520977_55f5ff6ed4_o.jpg
ORGANIZER;CN="Leicester City Korfball Club":MAILTO:info@leicesterkorfball.org.uk
END:VEVENT
BEGIN:VEVENT
DTSTART;VALUE=DATE:20170709
DTEND;VALUE=DATE:20170710
DTSTAMP:20260422T202843
CREATED:20170309T103138Z
LAST-MODIFIED:20170504T075300Z
UID:4940-1499558400-1499644799@englandkorfball.co.uk
SUMMARY:National Youth Day 2017
DESCRIPTION:
URL:https://englandkorfball.co.uk/calendars/national-youth-day-2017/
LOCATION:The Hewitt Academy\,  Cecil Road\, Norwich \, NR1 2PL\, United Kingdom
CATEGORIES:Summer Tournaments
END:VEVENT
BEGIN:VEVENT
DTSTART;VALUE=DATE:20170708
DTEND;VALUE=DATE:20170709
DTSTAMP:20260422T202843
CREATED:20170308T230544Z
LAST-MODIFIED:20170308T230544Z
UID:4929-1499472000-1499558399@englandkorfball.co.uk
SUMMARY:Korfstock 2017
DESCRIPTION:
URL:https://englandkorfball.co.uk/calendars/korfstock-2017/
LOCATION:Bletchley Rugby Club\, Manor Field\, Milton Keynes\, Bletchley\, MK2 2HX\, United Kingdom
CATEGORIES:Summer Tournaments
ATTACH;FMTTYPE=image/jpeg:https://englandkorfball.co.uk/wp-content/uploads/2017/03/5995520977_55f5ff6ed4_o.jpg
ORGANIZER;CN="MK Lakers":MAILTO:Stuff@mklakers.co.uk
END:VEVENT
BEGIN:VEVENT
DTSTART;VALUE=DATE:20170610
DTEND;VALUE=DATE:20170611
DTSTAMP:20260422T202843
CREATED:20170308T211559Z
LAST-MODIFIED:20170308T234606Z
UID:4900-1497052800-1497139199@englandkorfball.co.uk
SUMMARY:Bristol City Tournament 2017
DESCRIPTION:
URL:https://englandkorfball.co.uk/calendars/bristol-tournament-2017/
LOCATION:West Wickham
CATEGORIES:Summer Tournaments
ATTACH;FMTTYPE=image/jpeg:https://englandkorfball.co.uk/wp-content/uploads/2017/03/5995520977_55f5ff6ed4_o.jpg
END:VEVENT
BEGIN:VEVENT
DTSTART;VALUE=DATE:20170610
DTEND;VALUE=DATE:20170611
DTSTAMP:20260422T202843
CREATED:20170122T102401Z
LAST-MODIFIED:20170310T110233Z
UID:3893-1497052800-1497139199@englandkorfball.co.uk
SUMMARY:Kingfisher Korf4 Tournament
DESCRIPTION:Kingfisher Korfball Club are holding their first ever independently run summer tournament. This will be a Korf4 event open to all ages and abilities. Kingfisher would like to invite you all to come and join them for a day of 4-on-4 fast paced competition and fun!
URL:https://englandkorfball.co.uk/calendars/kingfisher-korf4-tournament/
LOCATION:K Sport\, K Sports\, Cobdown\, Station Road\, Maidstone\, Kent\, ME20 6AU\, United Kingdom
CATEGORIES:Summer Tournaments
ATTACH;FMTTYPE=image/jpeg:https://englandkorfball.co.uk/wp-content/uploads/2017/01/7298006662_0035ee14c3_o.jpg
ORGANIZER;CN="Kingfisher Korfball Club":MAILTO:kingfisherkc_events@outlook.com
END:VEVENT
BEGIN:VEVENT
DTSTART;VALUE=DATE:20170604
DTEND;VALUE=DATE:20170605
DTSTAMP:20260422T202843
CREATED:20170308T211316Z
LAST-MODIFIED:20170308T215434Z
UID:4896-1496534400-1496620799@englandkorfball.co.uk
SUMMARY:Nomads Tournament 2017
DESCRIPTION:
URL:https://englandkorfball.co.uk/calendars/nomads-summer-tournament-2017/
LOCATION:Cheam Sports Club\, Peaches Close\, Cheam\, Surrey\, SM2 7BJ\, United Kingdom
CATEGORIES:Summer Tournaments
ATTACH;FMTTYPE=image/jpeg:https://englandkorfball.co.uk/wp-content/uploads/2017/03/5995520977_55f5ff6ed4_o.jpg
ORGANIZER;CN="Nomads Korfball Club":MAILTO:info@nomadskorfball.com
END:VEVENT
BEGIN:VEVENT
DTSTART;VALUE=DATE:20170603
DTEND;VALUE=DATE:20170604
DTSTAMP:20260422T202843
CREATED:20170308T210845Z
LAST-MODIFIED:20170308T220231Z
UID:4894-1496448000-1496534399@englandkorfball.co.uk
SUMMARY:Gloucester Lions Tournament 2017
DESCRIPTION:
URL:https://englandkorfball.co.uk/calendars/gloucester-lions-summer-tournament-2017/
LOCATION:West Wickham
CATEGORIES:Summer Tournaments
ATTACH;FMTTYPE=image/jpeg:https://englandkorfball.co.uk/wp-content/uploads/2017/03/5995520977_55f5ff6ed4_o.jpg
END:VEVENT
BEGIN:VEVENT
DTSTART;VALUE=DATE:20170520
DTEND;VALUE=DATE:20170521
DTSTAMP:20260422T202843
CREATED:20170308T210712Z
LAST-MODIFIED:20170308T210712Z
UID:4892-1495238400-1495324799@englandkorfball.co.uk
SUMMARY:St. Andrews University Beach Tournament
DESCRIPTION:
URL:https://englandkorfball.co.uk/calendars/st-andrews-university-beach-tournament/
LOCATION:West Wickham
CATEGORIES:Summer Tournaments
ATTACH;FMTTYPE=image/jpeg:https://englandkorfball.co.uk/wp-content/uploads/2017/03/5995520977_55f5ff6ed4_o.jpg
END:VEVENT
BEGIN:VEVENT
DTSTART;VALUE=DATE:20170513
DTEND;VALUE=DATE:20170514
DTSTAMP:20260422T202843
CREATED:20170308T210545Z
LAST-MODIFIED:20170308T210545Z
UID:4888-1494633600-1494719999@englandkorfball.co.uk
SUMMARY:UEA Tournament
DESCRIPTION:
URL:https://englandkorfball.co.uk/calendars/uea-tournament/
LOCATION:UEA Sportspark\, University of East Anglia\, Norwich Research Park\, Norwich\, Norfolk\, NR4 7TJ\, United Kingdom
CATEGORIES:Summer Tournaments
ATTACH;FMTTYPE=image/jpeg:https://englandkorfball.co.uk/wp-content/uploads/2017/03/5995520977_55f5ff6ed4_o.jpg
END:VEVENT
END:VCALENDAR