BEGIN:VCALENDAR
VERSION:2.0
PRODID:-//England Korfball - ECPv6.15.20//NONSGML v1.0//EN
CALSCALE:GREGORIAN
METHOD:PUBLISH
X-ORIGINAL-URL:https://englandkorfball.co.uk
X-WR-CALDESC:Events for England Korfball
REFRESH-INTERVAL;VALUE=DURATION:PT1H
X-Robots-Tag:noindex
X-PUBLISHED-TTL:PT1H
BEGIN:VTIMEZONE
TZID:Europe/London
BEGIN:DAYLIGHT
TZOFFSETFROM:+0000
TZOFFSETTO:+0100
TZNAME:BST
DTSTART:20150329T010000
END:DAYLIGHT
BEGIN:STANDARD
TZOFFSETFROM:+0100
TZOFFSETTO:+0000
TZNAME:GMT
DTSTART:20151025T010000
END:STANDARD
BEGIN:DAYLIGHT
TZOFFSETFROM:+0000
TZOFFSETTO:+0100
TZNAME:BST
DTSTART:20160327T010000
END:DAYLIGHT
BEGIN:STANDARD
TZOFFSETFROM:+0100
TZOFFSETTO:+0000
TZNAME:GMT
DTSTART:20161030T010000
END:STANDARD
BEGIN:DAYLIGHT
TZOFFSETFROM:+0000
TZOFFSETTO:+0100
TZNAME:BST
DTSTART:20170326T010000
END:DAYLIGHT
BEGIN:STANDARD
TZOFFSETFROM:+0100
TZOFFSETTO:+0000
TZNAME:GMT
DTSTART:20171029T010000
END:STANDARD
BEGIN:DAYLIGHT
TZOFFSETFROM:+0000
TZOFFSETTO:+0100
TZNAME:BST
DTSTART:20180325T010000
END:DAYLIGHT
BEGIN:STANDARD
TZOFFSETFROM:+0100
TZOFFSETTO:+0000
TZNAME:GMT
DTSTART:20181028T010000
END:STANDARD
BEGIN:DAYLIGHT
TZOFFSETFROM:+0000
TZOFFSETTO:+0100
TZNAME:BST
DTSTART:20190331T010000
END:DAYLIGHT
BEGIN:STANDARD
TZOFFSETFROM:+0100
TZOFFSETTO:+0000
TZNAME:GMT
DTSTART:20191027T010000
END:STANDARD
BEGIN:DAYLIGHT
TZOFFSETFROM:+0000
TZOFFSETTO:+0100
TZNAME:BST
DTSTART:20200329T010000
END:DAYLIGHT
BEGIN:STANDARD
TZOFFSETFROM:+0100
TZOFFSETTO:+0000
TZNAME:GMT
DTSTART:20201025T010000
END:STANDARD
BEGIN:DAYLIGHT
TZOFFSETFROM:+0000
TZOFFSETTO:+0100
TZNAME:BST
DTSTART:20210328T010000
END:DAYLIGHT
BEGIN:STANDARD
TZOFFSETFROM:+0100
TZOFFSETTO:+0000
TZNAME:GMT
DTSTART:20211031T010000
END:STANDARD
BEGIN:DAYLIGHT
TZOFFSETFROM:+0000
TZOFFSETTO:+0100
TZNAME:BST
DTSTART:20220327T010000
END:DAYLIGHT
BEGIN:STANDARD
TZOFFSETFROM:+0100
TZOFFSETTO:+0000
TZNAME:GMT
DTSTART:20221030T010000
END:STANDARD
BEGIN:DAYLIGHT
TZOFFSETFROM:+0000
TZOFFSETTO:+0100
TZNAME:BST
DTSTART:20230326T010000
END:DAYLIGHT
BEGIN:STANDARD
TZOFFSETFROM:+0100
TZOFFSETTO:+0000
TZNAME:GMT
DTSTART:20231029T010000
END:STANDARD
END:VTIMEZONE
BEGIN:VEVENT
DTSTART;VALUE=DATE:20220713
DTEND;VALUE=DATE:20220718
DTSTAMP:20260422T163249
CREATED:20211106T122834Z
LAST-MODIFIED:20211106T122834Z
UID:22224-1657670400-1658102399@englandkorfball.co.uk
SUMMARY:World Games 2022
DESCRIPTION:
URL:https://englandkorfball.co.uk/calendars/world-games-2022/
CATEGORIES:Internationals
END:VEVENT
BEGIN:VEVENT
DTSTART;VALUE=DATE:20220702
DTEND;VALUE=DATE:20220704
DTSTAMP:20260422T163249
CREATED:20220205T185359Z
LAST-MODIFIED:20220205T185359Z
UID:22762-1656720000-1656892799@englandkorfball.co.uk
SUMMARY:IKF U17 Korfball World Cup 2022
DESCRIPTION:
URL:https://englandkorfball.co.uk/calendars/ikf-u17-korfball-world-cup-2022/
CATEGORIES:Internationals
END:VEVENT
BEGIN:VEVENT
DTSTART;VALUE=DATE:20220415
DTEND;VALUE=DATE:20220418
DTSTAMP:20260422T163249
CREATED:20211106T122005Z
LAST-MODIFIED:20211106T122111Z
UID:22210-1649980800-1650239999@englandkorfball.co.uk
SUMMARY:IKF U19 World Korfball Championship 2022
DESCRIPTION:
URL:https://englandkorfball.co.uk/calendars/ikf-u19-world-korfball-championship-2022/
LOCATION:Kutná Hora\, Kutná Hora\, Czech Republic
CATEGORIES:Internationals
END:VEVENT
BEGIN:VEVENT
DTSTART;TZID=Europe/London:20211215T190000
DTEND;TZID=Europe/London:20211215T200000
DTSTAMP:20260422T163249
CREATED:20211211T122225Z
LAST-MODIFIED:20211211T122225Z
UID:22615-1639594800-1639598400@englandkorfball.co.uk
SUMMARY:Performance Programme Consultation (Area and Clubs)
DESCRIPTION:We would like to hear your views on how we move the England Korfball Performance Programme forward. We will be hosting opportunities to listen to your views and discuss the way forward for the England age groups and senior programme. \nRegister for online workshop on Wednesday 15 December. \nThis is open and relevant to all\, irrespective of previous or current engagement with the programme. To register for the online sessions click on the links below and complete the registration form. Joining instructions will be sent to your email address the day before. \nWe want to hear views from the korfball community as a whole.
URL:https://englandkorfball.co.uk/calendars/performance-programme-consultation-area-and-clubs/
CATEGORIES:Internationals
ATTACH;FMTTYPE=image/jpeg:https://englandkorfball.co.uk/wp-content/uploads/2021/10/IMG-20211026-WA0004-e1635286810996.jpg
END:VEVENT
BEGIN:VEVENT
DTSTART;TZID=Europe/London:20211213T193000
DTEND;TZID=Europe/London:20211213T210000
DTSTAMP:20260422T163249
CREATED:20211211T122042Z
LAST-MODIFIED:20211211T122311Z
UID:22613-1639423800-1639429200@englandkorfball.co.uk
SUMMARY:Performance Programme Consultation (Coaches)
DESCRIPTION:We would like to hear your views on how we move the England Korfball Performance Programme forward. We will be hosting opportunities to listen to your views and discuss the way forward for the England age groups and senior programme. \nRegister for online workshop on Monday 13 December. \nThis is open and relevant to all\, irrespective of previous or current engagement with the programme. To register for the online sessions click on the links below and complete the registration form. Joining instructions will be sent to your email address the day before. \nWe want to hear views from the korfball community as a whole.
URL:https://englandkorfball.co.uk/calendars/performance-programme-consultation-coaches/
CATEGORIES:Internationals
ATTACH;FMTTYPE=image/jpeg:https://englandkorfball.co.uk/wp-content/uploads/2021/10/IMG-20211026-WA0004-e1635286810996.jpg
END:VEVENT
BEGIN:VEVENT
DTSTART;TZID=Europe/London:20211115T190000
DTEND;TZID=Europe/London:20211115T203000
DTSTAMP:20260422T163249
CREATED:20211108T171832Z
LAST-MODIFIED:20211108T171832Z
UID:22300-1637002800-1637008200@englandkorfball.co.uk
SUMMARY:Performance Programme consultation (virtual)
DESCRIPTION:If you wish to attend\, please complete the registration form here.
URL:https://englandkorfball.co.uk/calendars/performance-programme-consultation-virtual/
CATEGORIES:Internationals
END:VEVENT
BEGIN:VEVENT
DTSTART;TZID=Europe/London:20211113T123000
DTEND;TZID=Europe/London:20211113T153000
DTSTAMP:20260422T163249
CREATED:20211106T095911Z
LAST-MODIFIED:20211106T095911Z
UID:22192-1636806600-1636817400@englandkorfball.co.uk
SUMMARY:U19 England Korfball Team Trials
DESCRIPTION:The trials will take place on Saturday 13 November 2021 \nThe trials will take place at: \nTrinity Sports Club\, Shirley Park\, Croydon\, CR9 7AT\nPlayers who wish to attend the trials should sign up here. The trials will take place from 12.30pm to 3.30pm\, but players are asked to arrive by midday\, so the trials can start promptly at 12.30pm. \nThe U19 team will be competing in the European Championships\, taking place in April 2022 in the Czech Republic.
URL:https://englandkorfball.co.uk/calendars/u19-england-korfball-team-trials/
LOCATION:Trinity Sports Club\, Shirley Park\, Croydon\, CR9 7AT\, United Kingdom
CATEGORIES:Internationals
END:VEVENT
BEGIN:VEVENT
DTSTART;TZID=Europe/London:20211113T110000
DTEND;TZID=Europe/London:20211113T123000
DTSTAMP:20260422T163249
CREATED:20211108T171546Z
LAST-MODIFIED:20211108T171546Z
UID:22296-1636801200-1636806600@englandkorfball.co.uk
SUMMARY:Performance Programme consultation
DESCRIPTION:We will be hosting the first open discussion workshop on Saturday 13 November\,11-12.30 pm at Trinity School\, Shirley Park\, Croydon\,CR9 7AT. More info >>>
URL:https://englandkorfball.co.uk/calendars/performance-programme-consultation/
LOCATION:Trinity Sports Club\, Shirley Park\, Croydon\, CR9 7AT\, United Kingdom
CATEGORIES:Internationals
END:VEVENT
BEGIN:VEVENT
DTSTART;TZID=Europe/London:20210725T120000
DTEND;TZID=Europe/London:20210725T160000
DTSTAMP:20260422T163249
CREATED:20210626T185348Z
LAST-MODIFIED:20210626T185348Z
UID:20995-1627214400-1627228800@englandkorfball.co.uk
SUMMARY:Senior Squad Trials 2021
DESCRIPTION:England Korfball will be holding trials for the senior England squad that will go on to train and compete in the upcoming IKF European Korfball Championships later this year. \nTrials will be held in Croydon\, South London on Sunday 25 July 2021 between 12pm (midday) and 4pm. \nVenue: Trinity Sports Club\, Shirley Park\, Croydon\, CR9 7AT\nThe purpose of the trial will be to select a squad to represent England Korfball at the European Championship which is due to take place in Antwerp\, Belgium\, between 25 and 30 October 2021.
URL:https://englandkorfball.co.uk/calendars/senior-squad-trials-2021/
LOCATION:Trinity Sports Club\, Shirley Park\, Croydon\, CR9 7AT\, United Kingdom
CATEGORIES:Internationals
END:VEVENT
BEGIN:VEVENT
DTSTART;VALUE=DATE:20200410
DTEND;VALUE=DATE:20200413
DTSTAMP:20260422T163249
CREATED:20191123T094357Z
LAST-MODIFIED:20191123T094357Z
UID:17762-1586476800-1586735999@englandkorfball.co.uk
SUMMARY:IKF U19 (Open) European Korfball Championship 2020
DESCRIPTION:
URL:https://englandkorfball.co.uk/calendars/ikf-u19-open-european-korfball-championship-2020/
LOCATION:Leeuwarden\, Netherlands
CATEGORIES:Internationals
END:VEVENT
BEGIN:VEVENT
DTSTART;TZID=Europe/London:20200222T154000
DTEND;TZID=Europe/London:20200222T174000
DTSTAMP:20260422T163249
CREATED:20200210T074205Z
LAST-MODIFIED:20200210T074205Z
UID:18614-1582386000-1582393200@englandkorfball.co.uk
SUMMARY:England U21 Trails
DESCRIPTION:
URL:https://englandkorfball.co.uk/calendars/england-u21-trails/
LOCATION:Royal Russell School\, Coombe Lane \, Croydon\, CR9 5BX\, United Kingdom
CATEGORIES:Internationals
END:VEVENT
BEGIN:VEVENT
DTSTART;TZID=Europe/London:20191207T110000
DTEND;TZID=Europe/London:20191207T160000
DTSTAMP:20260422T163249
CREATED:20191120T195915Z
LAST-MODIFIED:20191120T195915Z
UID:17726-1575716400-1575734400@englandkorfball.co.uk
SUMMARY:Senior Squad Trials 2019
DESCRIPTION:
URL:https://englandkorfball.co.uk/calendars/senior-squad-trials-2019/
LOCATION:Trinity Sports Club\, Shirley Park\, Croydon\, CR9 7AT\, United Kingdom
CATEGORIES:Internationals
END:VEVENT
BEGIN:VEVENT
DTSTART;VALUE=DATE:20191109
DTEND;VALUE=DATE:20191111
DTSTAMP:20260422T163249
CREATED:20191109T104552Z
LAST-MODIFIED:20191109T104552Z
UID:17602-1573257600-1573430399@englandkorfball.co.uk
SUMMARY:Youth Autumn Internationals
DESCRIPTION:The England Under-15 and Under-17 squads will play a series of matches against Belgium and Dutch opposition.
URL:https://englandkorfball.co.uk/calendars/youth-autumn-internationals/
LOCATION:Flanders\, Belgium
CATEGORIES:Internationals
ATTACH;FMTTYPE=image/jpeg:https://englandkorfball.co.uk/wp-content/uploads/2019/06/SPEL8783.jpg
END:VEVENT
BEGIN:VEVENT
DTSTART;VALUE=DATE:20190907
DTEND;VALUE=DATE:20190908
DTSTAMP:20260422T163249
CREATED:20190726T185814Z
LAST-MODIFIED:20190726T185845Z
UID:16484-1567814400-1567900799@englandkorfball.co.uk
SUMMARY:England Youth Trials 2019
DESCRIPTION:Trials for the England Korfball Under 15\, Under 17 and Under 19 squads will take place on Saturday 7th September 2019 at UEA Sportspark. All players\, including those who have previously represented England must complete our application form.
URL:https://englandkorfball.co.uk/calendars/england-youth-trials-2019/
LOCATION:UEA Sportspark\, University of East Anglia\, Norwich Research Park\, Norwich\, Norfolk\, NR4 7TJ\, United Kingdom
CATEGORIES:Internationals
ATTACH;FMTTYPE=image/jpeg:https://englandkorfball.co.uk/wp-content/uploads/2019/06/SPEL9106.jpg
END:VEVENT
BEGIN:VEVENT
DTSTART;VALUE=DATE:20190706
DTEND;VALUE=DATE:20190708
DTSTAMP:20260422T163249
CREATED:20190504T145644Z
LAST-MODIFIED:20190504T145644Z
UID:15143-1562371200-1562543999@englandkorfball.co.uk
SUMMARY:IKF Beach Korfball World Cup (Europe) 2019
DESCRIPTION:
URL:https://englandkorfball.co.uk/calendars/ikf-beach-korfball-world-cup-europe-2019/
LOCATION:Rue du Stade 42160\, Bonson\, Bonson\, 42160\, France
CATEGORIES:Internationals,Summer Tournaments
ATTACH;FMTTYPE=image/png:https://englandkorfball.co.uk/wp-content/uploads/2019/05/ikf_bkwc_2019_web1.png
END:VEVENT
BEGIN:VEVENT
DTSTART;VALUE=DATE:20180909
DTEND;VALUE=DATE:20180910
DTSTAMP:20260422T163249
CREATED:20180827T130234Z
LAST-MODIFIED:20180827T130234Z
UID:11555-1536451200-1536537599@englandkorfball.co.uk
SUMMARY:England Squad Trials
DESCRIPTION:Trials for the U15\, U17\, U19 and U21 squads are taking place on Sunday 9th September 2018 at the Royal Russell School in Croydon. \nDate: Sunday\, 9th September 2018\nAddress: Royal Russell School\, Coombe Lane\, Croydon\, CR9 5BX \nTo find out more about the England trials\, including the age bands for each age squad\, and to register your interest\, simply complete the expression of interest form. The relevant Team Manager will then be in touch nearer the date with more information about the trials. \nFor more information\, please contact Hannah Winsbury\, National Development Officer.
URL:https://englandkorfball.co.uk/calendars/england-squad-trials/
LOCATION:Royal Russell School\, Coombe Lane \, Croydon\, CR9 5BX\, United Kingdom
CATEGORIES:Internationals
ATTACH;FMTTYPE=image/jpeg:https://englandkorfball.co.uk/wp-content/uploads/2018/01/25463816528_c853cf95c6_o.jpg
END:VEVENT
BEGIN:VEVENT
DTSTART;VALUE=DATE:20180623
DTEND;VALUE=DATE:20180625
DTSTAMP:20260422T163249
CREATED:20180302T195255Z
LAST-MODIFIED:20180302T195303Z
UID:9629-1529712000-1529884799@englandkorfball.co.uk
SUMMARY:U17 World Cup 2018
DESCRIPTION:
URL:https://englandkorfball.co.uk/calendars/u17-korfball-world-cup-2018/
LOCATION:Sportvenue De Vijfkamp\, Vijfkamplaan 5\, Eindhoven\, Netherlands
CATEGORIES:Internationals
END:VEVENT
BEGIN:VEVENT
DTSTART;VALUE=DATE:20180331
DTEND;VALUE=DATE:20180402
DTSTAMP:20260422T163249
CREATED:20170921T122016Z
LAST-MODIFIED:20170921T122016Z
UID:7805-1522454400-1522627199@englandkorfball.co.uk
SUMMARY:IKF U19 World Cup
DESCRIPTION:
URL:https://englandkorfball.co.uk/calendars/ikf-u19-world-cup/
CATEGORIES:Internationals
ATTACH;FMTTYPE=image/jpeg:https://englandkorfball.co.uk/wp-content/uploads/2016/10/SPEL2999.jpg
END:VEVENT
BEGIN:VEVENT
DTSTART;VALUE=DATE:20171104
DTEND;VALUE=DATE:20171106
DTSTAMP:20260422T163249
CREATED:20170921T121756Z
LAST-MODIFIED:20170921T121756Z
UID:7803-1509753600-1509926399@englandkorfball.co.uk
SUMMARY:Flanders 2017
DESCRIPTION:
URL:https://englandkorfball.co.uk/calendars/flanders-2017/
CATEGORIES:Internationals
ATTACH;FMTTYPE=image/jpeg:https://englandkorfball.co.uk/wp-content/uploads/2017/07/35147287900_ae65de59f3_o-e1499203884666.jpg
END:VEVENT
BEGIN:VEVENT
DTSTART;VALUE=DATE:20170720
DTEND;VALUE=DATE:20170731
DTSTAMP:20260422T163249
CREATED:20161027T212600Z
LAST-MODIFIED:20170122T100137Z
UID:1409-1500508800-1501459199@englandkorfball.co.uk
SUMMARY:World Games 2017
DESCRIPTION:
URL:https://englandkorfball.co.uk/calendars/world-games-2017/
LOCATION:Wroclaw\, Wroclaw\, Poland
CATEGORIES:Internationals
ATTACH;FMTTYPE=image/jpeg:https://englandkorfball.co.uk/wp-content/uploads/2016/10/3879637818_94bdb151f6_o.jpg
END:VEVENT
BEGIN:VEVENT
DTSTART;VALUE=DATE:20170623
DTEND;VALUE=DATE:20170626
DTSTAMP:20260422T163249
CREATED:20161027T212430Z
LAST-MODIFIED:20161027T212430Z
UID:1406-1498176000-1498435199@englandkorfball.co.uk
SUMMARY:U17 World Cup 2017
DESCRIPTION:
URL:https://englandkorfball.co.uk/calendars/u17-world-cup-2017/
LOCATION:Sportcenter Dioscuren\, Schijndel\, Netherlands
CATEGORIES:Internationals
END:VEVENT
BEGIN:VEVENT
DTSTART;VALUE=DATE:20161227
DTEND;VALUE=DATE:20161231
DTSTAMP:20260422T163249
CREATED:20161212T222710Z
LAST-MODIFIED:20161220T185012Z
UID:3056-1482796800-1483142399@englandkorfball.co.uk
SUMMARY:Korfball Challenge 2016
DESCRIPTION:
URL:https://englandkorfball.co.uk/calendars/korfball-challenge-2016/
LOCATION:Topsportcentrum Rotterdam\, Van Zandvlietplein 20\, Rotterdam\, 3077 AA\, Netherlands
CATEGORIES:Internationals
ATTACH;FMTTYPE=image/jpeg:https://englandkorfball.co.uk/wp-content/uploads/2016/10/14522861_1321088781258626_8420620851658040174_n.jpg
END:VEVENT
END:VCALENDAR