BEGIN:VCALENDAR
VERSION:2.0
PRODID:-//England Korfball - ECPv6.15.20//NONSGML v1.0//EN
CALSCALE:GREGORIAN
METHOD:PUBLISH
X-WR-CALNAME:England Korfball
X-ORIGINAL-URL:https://englandkorfball.co.uk
X-WR-CALDESC:Events for England Korfball
REFRESH-INTERVAL;VALUE=DURATION:PT1H
X-Robots-Tag:noindex
X-PUBLISHED-TTL:PT1H
BEGIN:VTIMEZONE
TZID:Europe/London
BEGIN:DAYLIGHT
TZOFFSETFROM:+0000
TZOFFSETTO:+0100
TZNAME:BST
DTSTART:20160327T010000
END:DAYLIGHT
BEGIN:STANDARD
TZOFFSETFROM:+0100
TZOFFSETTO:+0000
TZNAME:GMT
DTSTART:20161030T010000
END:STANDARD
BEGIN:DAYLIGHT
TZOFFSETFROM:+0000
TZOFFSETTO:+0100
TZNAME:BST
DTSTART:20170326T010000
END:DAYLIGHT
BEGIN:STANDARD
TZOFFSETFROM:+0100
TZOFFSETTO:+0000
TZNAME:GMT
DTSTART:20171029T010000
END:STANDARD
BEGIN:DAYLIGHT
TZOFFSETFROM:+0000
TZOFFSETTO:+0100
TZNAME:BST
DTSTART:20180325T010000
END:DAYLIGHT
BEGIN:STANDARD
TZOFFSETFROM:+0100
TZOFFSETTO:+0000
TZNAME:GMT
DTSTART:20181028T010000
END:STANDARD
END:VTIMEZONE
BEGIN:VEVENT
DTSTART;TZID=Europe/London:20171028T120000
DTEND;TZID=Europe/London:20171028T180000
DTSTAMP:20260423T024337
CREATED:20170816T205111Z
LAST-MODIFIED:20170902T075646Z
UID:7460-1509192000-1509213600@englandkorfball.co.uk
SUMMARY:Level 1 Coaching Award - Oxford
DESCRIPTION:This is the minimum operating standard for assistant coaches in Korfball. This course will enable you to support the delivery of sessions with confidence\, exploring the basic rules and techniques through the game. Make sure you register for the course by 27th October – click here to book your space!
URL:https://englandkorfball.co.uk/calendars/level-1-coaching-award-oxford/
LOCATION:Matthew Arnold School\, Arnolds Way\, Oxford\, OX2 9JE\, United Kingdom
CATEGORIES:Coaching Courses
ATTACH;FMTTYPE=image/jpeg:https://englandkorfball.co.uk/wp-content/uploads/2017/05/18320711_1374912339213768_8044682388481006357_o.jpg
ORGANIZER;CN="Sport Structures":MAILTO:education@sportstructures.com
END:VEVENT
BEGIN:VEVENT
DTSTART;VALUE=DATE:20170825
DTEND;VALUE=DATE:20170826
DTSTAMP:20260423T024337
CREATED:20170308T215145Z
LAST-MODIFIED:20170308T215145Z
UID:4917-1503619200-1503705599@englandkorfball.co.uk
SUMMARY:1st4Sport Level 2 Certificate in Coaching Korfball
DESCRIPTION:The 1st4Sport Level 2 Certificate in Coaching Korfball qualification is designed to provide learners with the skills and knowledge required to enable them to coach Korfball sessions to groups of adults and/or young people in an appropriate environment. The qualification is designed for aspiring Korfball coaches who wish to develop their knowledge and understanding of how to effectively coach individual and game play skills as well as coaching linked and progressive sessions.
URL:https://englandkorfball.co.uk/calendars/1st4sport-level-2-certificate-coaching-korfball-3/
LOCATION:Churchill Sports Centre\, Churchill Green\, Churchill\, North Somerset\, BS25 5QL\, United Kingdom
CATEGORIES:Coaching Courses
ATTACH;FMTTYPE=image/jpeg:https://englandkorfball.co.uk/wp-content/uploads/2016/12/29187032715_35a4261e70_k.jpg
ORGANIZER;CN="Sport Structures":MAILTO:education@sportstructures.com
END:VEVENT
BEGIN:VEVENT
DTSTART;VALUE=DATE:20170820
DTEND;VALUE=DATE:20170821
DTSTAMP:20260423T024337
CREATED:20170308T214935Z
LAST-MODIFIED:20170308T214935Z
UID:4915-1503187200-1503273599@englandkorfball.co.uk
SUMMARY:1st4Sport Level 2 Certificate in Coaching Korfball
DESCRIPTION:The 1st4Sport Level 2 Certificate in Coaching Korfball qualification is designed to provide learners with the skills and knowledge required to enable them to coach Korfball sessions to groups of adults and/or young people in an appropriate environment. The qualification is designed for aspiring Korfball coaches who wish to develop their knowledge and understanding of how to effectively coach individual and game play skills as well as coaching linked and progressive sessions.
URL:https://englandkorfball.co.uk/calendars/1st4sport-level-2-certificate-coaching-korfball-2/
LOCATION:Churchill Sports Centre\, Churchill Green\, Churchill\, North Somerset\, BS25 5QL\, United Kingdom
CATEGORIES:Coaching Courses
ATTACH;FMTTYPE=image/jpeg:https://englandkorfball.co.uk/wp-content/uploads/2017/01/31182508204_8acda9c41e_k.jpg
ORGANIZER;CN="Sport Structures":MAILTO:education@sportstructures.com
END:VEVENT
BEGIN:VEVENT
DTSTART;VALUE=DATE:20170819
DTEND;VALUE=DATE:20170820
DTSTAMP:20260423T024337
CREATED:20170308T214318Z
LAST-MODIFIED:20170308T214318Z
UID:4912-1503100800-1503187199@englandkorfball.co.uk
SUMMARY:1st4Sport Level 2 Certificate in Coaching Korfball
DESCRIPTION:The 1st4Sport Level 2 Certificate in Coaching Korfball qualification is designed to provide learners with the skills and knowledge required to enable them to coach Korfball sessions to groups of adults and/or young people in an appropriate environment. The qualification is designed for aspiring Korfball coaches who wish to develop their knowledge and understanding of how to effectively coach individual and game play skills as well as coaching linked and progressive sessions.
URL:https://englandkorfball.co.uk/calendars/1st4sport-level-2-certificate-coaching-korfball/
LOCATION:Churchill Sports Centre\, Churchill Green\, Churchill\, North Somerset\, BS25 5QL\, United Kingdom
CATEGORIES:Coaching Courses
ORGANIZER;CN="Sport Structures":MAILTO:education@sportstructures.com
END:VEVENT
BEGIN:VEVENT
DTSTART;VALUE=DATE:20170729
DTEND;VALUE=DATE:20170806
DTSTAMP:20260423T024337
CREATED:20170607T090332Z
LAST-MODIFIED:20170607T090332Z
UID:6710-1501286400-1501977599@englandkorfball.co.uk
SUMMARY:Avon Tyrrell Youth Camp
DESCRIPTION:The course is an intensive week of high level skills training\, and teaching of coaching techniques suitable for training teams at competition level. Those who successfully complete the course will receive a BKA Level 1 or 2 Coaching Certiﬁcate. The course runs from Saturday 29 July to Saturday 5 August and is held at Avon Tyrrell\, a Youth Club Residential Centre\, set in beautiful grounds in the New Forest at Bransgore\, Hampshire. Facilities include a lake\, heated outdoor swimming pool\, sports ﬁelds\, hard courts and its own woods.
URL:https://englandkorfball.co.uk/calendars/avon-tyrrell-youth-camp/
LOCATION:Avon Tyrell\, Bransgore \, Hampshire\, BH23 8EE\, United Kingdom
CATEGORIES:Coaching Courses
ATTACH;FMTTYPE=image/jpeg:https://englandkorfball.co.uk/wp-content/uploads/2016/12/29187032715_35a4261e70_k.jpg
END:VEVENT
BEGIN:VEVENT
DTSTART;TZID=Europe/London:20170429T090000
DTEND;TZID=Europe/London:20170429T170000
DTSTAMP:20260423T024337
CREATED:20161112T103622Z
LAST-MODIFIED:20161112T103622Z
UID:1693-1493456400-1493485200@englandkorfball.co.uk
SUMMARY:1st4Sport Level 2 Certificate in Coaching Korfball - Sheffield
DESCRIPTION:
URL:https://englandkorfball.co.uk/calendars/1st4sport-level-2-certificate-in-coaching-korfball-sheffield-3/
LOCATION:Sheffield Hallum University\, Collegiate Crescent\, Sheffield\, S10 2BP\, United Kingdom
CATEGORIES:Coaching Courses
ORGANIZER;CN="Sport Structures":MAILTO:education@sportstructures.com
END:VEVENT
BEGIN:VEVENT
DTSTART;TZID=Europe/London:20170325T090000
DTEND;TZID=Europe/London:20170325T170000
DTSTAMP:20260423T024337
CREATED:20161112T103459Z
LAST-MODIFIED:20161112T103459Z
UID:1691-1490432400-1490461200@englandkorfball.co.uk
SUMMARY:1st4Sport Level 2 Certificate in Coaching Korfball - Sheffield
DESCRIPTION:
URL:https://englandkorfball.co.uk/calendars/1st4sport-level-2-certificate-in-coaching-korfball-sheffield-2/
LOCATION:Sheffield Hallum University\, Collegiate Crescent\, Sheffield\, S10 2BP\, United Kingdom
CATEGORIES:Coaching Courses
ORGANIZER;CN="Sport Structures":MAILTO:education@sportstructures.com
END:VEVENT
BEGIN:VEVENT
DTSTART;TZID=Europe/London:20170311T110000
DTEND;TZID=Europe/London:20170311T170000
DTSTAMP:20260423T024337
CREATED:20161027T210651Z
LAST-MODIFIED:20161027T210651Z
UID:1400-1489230000-1489251600@englandkorfball.co.uk
SUMMARY:Level 1 Coaching Award- London
DESCRIPTION:
URL:https://englandkorfball.co.uk/calendars/level-1-coaching-award-london/
LOCATION:Monks Hill Sports Centre\, Farnborough Avenue\, Croydon\, CR2 8HD\, United Kingdom
CATEGORIES:Coaching Courses
ATTACH;FMTTYPE=image/jpeg:https://englandkorfball.co.uk/wp-content/uploads/2016/10/11943887435_8b7ec1fbe9_o.jpg
ORGANIZER;CN="Sport Structures":MAILTO:education@sportstructures.com
END:VEVENT
BEGIN:VEVENT
DTSTART;TZID=Europe/London:20170308T080000
DTEND;TZID=Europe/London:20170308T170000
DTSTAMP:20260423T024337
CREATED:20170308T213406Z
LAST-MODIFIED:20170308T213406Z
UID:4909-1488960000-1488992400@englandkorfball.co.uk
SUMMARY:Teaching Children Korfball Award - Milton Keynes
DESCRIPTION:This is an introductory course for people who are aspiring or current primary or secondary school teachers who have little or no experience of Korfball. This 3 hour course will provide you with a basic knowledge of how to play and teach the sport which will help you get the children involved in a sport they might not of experienced before.
URL:https://englandkorfball.co.uk/calendars/teaching-children-korfball-award-milton-keynes/
LOCATION:Milton Keynes College\, Sherwood Drive\, Milton Keynes\, Bletchley\, MK3 6DR\, United Kingdom
CATEGORIES:Coaching Courses
ATTACH;FMTTYPE=image/jpeg:https://englandkorfball.co.uk/wp-content/uploads/2016/11/5685365354_1cc51746ec_o.jpg
ORGANIZER;CN="Sport Structures":MAILTO:education@sportstructures.com
END:VEVENT
BEGIN:VEVENT
DTSTART;TZID=Europe/London:20170304T120000
DTEND;TZID=Europe/London:20170304T180000
DTSTAMP:20260423T024337
CREATED:20161112T102345Z
LAST-MODIFIED:20161112T102345Z
UID:1683-1488628800-1488650400@englandkorfball.co.uk
SUMMARY:Level 1 Coaching Award - Sheffield
DESCRIPTION:
URL:https://englandkorfball.co.uk/calendars/level-1-coaching-award-sheffield/
LOCATION:Forge Valley School\, Wood Lane\, Sheffield\, S6 5HG\, United Kingdom
CATEGORIES:Coaching Courses
ORGANIZER;CN="Sport Structures":MAILTO:education@sportstructures.com
END:VEVENT
BEGIN:VEVENT
DTSTART;TZID=Europe/London:20170218T120000
DTEND;TZID=Europe/London:20170218T180000
DTSTAMP:20260423T024337
CREATED:20161027T210226Z
LAST-MODIFIED:20161124T164321Z
UID:1396-1487419200-1487440800@englandkorfball.co.uk
SUMMARY:Level 1 Coaching Award- West Midlands
DESCRIPTION:
URL:https://englandkorfball.co.uk/calendars/level-1-coaching-award-west-midlands/
LOCATION:Urban Fitness\, Bournville College\, 1 Longbridge Lane\, Birmingham\, Longbridge\, B31 2AJ\, United Kingdom
CATEGORIES:Coaching Courses
ATTACH;FMTTYPE=image/jpeg:https://englandkorfball.co.uk/wp-content/uploads/2016/11/26032506681_2e57a43679_o.jpg
ORGANIZER;CN="Sport Structures":MAILTO:education@sportstructures.com
END:VEVENT
BEGIN:VEVENT
DTSTART;VALUE=DATE:20170218
DTEND;VALUE=DATE:20170220
DTSTAMP:20260423T024337
CREATED:20161112T102939Z
LAST-MODIFIED:20161206T233020Z
UID:1688-1487376000-1487548799@englandkorfball.co.uk
SUMMARY:1st4Sport Level 2 Certificate in Coaching Korfball - Sheffield
DESCRIPTION:
URL:https://englandkorfball.co.uk/calendars/1st4sport-level-2-certificate-in-coaching-korfball-sheffield/
LOCATION:Sheffield Hallum University\, Collegiate Crescent\, Sheffield\, S10 2BP\, United Kingdom
CATEGORIES:Coaching Courses
ATTACH;FMTTYPE=image/jpeg:https://englandkorfball.co.uk/wp-content/uploads/2016/11/19347713899_c12500efed_o.jpg
ORGANIZER;CN="Sport Structures":MAILTO:education@sportstructures.com
END:VEVENT
END:VCALENDAR